BEGIN:VCALENDAR
VERSION:2.0
PRODID:-//CKDH - ECPv4.6.26//NONSGML v1.0//EN
CALSCALE:GREGORIAN
METHOD:PUBLISH
X-WR-CALNAME:CKDH
X-ORIGINAL-URL:https://ckdh.com
X-WR-CALDESC:Events for CKDH
BEGIN:VEVENT
DTSTART;TZID=America/Halifax:20190818T080000
DTEND;TZID=America/Halifax:20190818T093000
DTSTAMP:20260421T140311
CREATED:20190808T075416Z
LAST-MODIFIED:20190808T075416Z
UID:6471-1566115200-1566120600@ckdh.com
SUMMARY:Blueberry Breakfast
DESCRIPTION:The Wild Blueberry harvest Festival is Aug 14-31 in Cumberland County. \nIn Parrsboro they are holding a Community Wild Blueberry Breakfast\, Sunday August 18th from 8am to 9:30am\, at the Royal Canadian Legion\, Moore St. \n  \n
URL:https://ckdh.com/event/blueberry-breakfast/
END:VEVENT
END:VCALENDAR