BEGIN:VCALENDAR
VERSION:2.0
PRODID:-//CKDH - ECPv4.6.26//NONSGML v1.0//EN
CALSCALE:GREGORIAN
METHOD:PUBLISH
X-WR-CALNAME:CKDH
X-ORIGINAL-URL:https://ckdh.com
X-WR-CALDESC:Events for CKDH
BEGIN:VEVENT
DTSTART;TZID=America/Halifax:20190524T140000
DTEND;TZID=America/Halifax:20190524T170000
DTSTAMP:20260424T131539
CREATED:20190430T151158Z
LAST-MODIFIED:20190430T151158Z
UID:5982-1558706400-1558717200@ckdh.com
SUMMARY:Bookable Tech Time
DESCRIPTION:It’s Bookable Tech Time at the Springhill Library Friday from 2-5. Book an hour of free tech time and learn about Kobo\, I-Pads\, digital cameras\, tablets\, emails\, the internet and anything else you can think of. Call 902-597-2211 to make your appointment. \n
URL:https://ckdh.com/event/bookable-tech-time-2/
END:VEVENT
END:VCALENDAR