BEGIN:VCALENDAR
VERSION:2.0
PRODID:-//CKDH - ECPv4.6.26//NONSGML v1.0//EN
CALSCALE:GREGORIAN
METHOD:PUBLISH
X-WR-CALNAME:CKDH
X-ORIGINAL-URL:https://ckdh.com
X-WR-CALDESC:Events for CKDH
BEGIN:VEVENT
DTSTART;TZID=America/Halifax:20190627T090000
DTEND;TZID=America/Halifax:20190627T160000
DTSTAMP:20260424T105819
CREATED:20190626T135427Z
LAST-MODIFIED:20190626T135427Z
UID:6265-1561626000-1561651200@ckdh.com
SUMMARY:Bottle Drive
DESCRIPTION:The Bridge Adult Service Center Client Council is having a BOTTLE DRIVE to raise funds for our trip to The Magnetic Hill Zoo on Sept 3. If you\, your organization or business would like to help them out\, take refundable pop\,  liquor and juice cans bottles and boxes to 16 Station Street or call 902-667-8433 and they would be very happy to pick up! \n
URL:https://ckdh.com/event/bottle-drive-5/2019-06-27/
END:VEVENT
END:VCALENDAR