BEGIN:VCALENDAR
VERSION:2.0
PRODID:-//CKDH - ECPv4.6.26//NONSGML v1.0//EN
CALSCALE:GREGORIAN
METHOD:PUBLISH
X-WR-CALNAME:CKDH
X-ORIGINAL-URL:https://ckdh.com
X-WR-CALDESC:Events for CKDH
BEGIN:VEVENT
DTSTART;VALUE=DATE:20210123
DTEND;VALUE=DATE:20210124
DTSTAMP:20260419T195714
CREATED:20201222T143304Z
LAST-MODIFIED:20210106T143328Z
UID:8260-1611360000-1611446399@ckdh.com
SUMMARY:CANCELED Bowl-A-Thon L.A. Animal Shelter
DESCRIPTION:King Pin Bowling and the L.A. Animal Shelter  Bowl-a-Thon\, Saturday Jan 23. has been canceled \n
URL:https://ckdh.com/event/bowl-a-thon-l-a-animal-shelter-2/
END:VEVENT
END:VCALENDAR