BEGIN:VCALENDAR
VERSION:2.0
PRODID:-//CKDH - ECPv4.6.26//NONSGML v1.0//EN
CALSCALE:GREGORIAN
METHOD:PUBLISH
X-WR-CALNAME:CKDH
X-ORIGINAL-URL:https://ckdh.com
X-WR-CALDESC:Events for CKDH
BEGIN:VEVENT
DTSTART;TZID=UTC+0:20170415T080000
DTEND;TZID=UTC+0:20170415T110000
DTSTAMP:20260423T205957
CREATED:20170330T160713Z
LAST-MODIFIED:20170330T160713Z
UID:477-1492243200-1492254000@ckdh.com
SUMMARY:Breakfast
DESCRIPTION:The Amherst 50+ Club is serving Breakfast\, Sat Apr 15\, 8-11 at their hall on Croft Street. There will be bacon and eggs\, sausage\, baked beans\, pancakes and more. Cost is $6 for adults and $4 for children. For more information call 902-667-1058 \n
URL:https://ckdh.com/event/breakfast-2/
END:VEVENT
END:VCALENDAR