BEGIN:VCALENDAR
VERSION:2.0
PRODID:-//CKDH - ECPv4.6.26//NONSGML v1.0//EN
CALSCALE:GREGORIAN
METHOD:PUBLISH
X-WR-CALNAME:CKDH
X-ORIGINAL-URL:https://ckdh.com
X-WR-CALDESC:Events for CKDH
BEGIN:VEVENT
DTSTART;TZID=UTC+0:20170408T080000
DTEND;TZID=UTC+0:20170408T110000
DTSTAMP:20260423T111558
CREATED:20170405T183439Z
LAST-MODIFIED:20170405T183439Z
UID:525-1491638400-1491649200@ckdh.com
SUMMARY:Breakfast
DESCRIPTION:The Knights of Columbus are holding another of their breakfast Saturday from 8-11 at their hall on Robie Street. The cost is $6 per person. \n
URL:https://ckdh.com/event/breakfast-3/
END:VEVENT
END:VCALENDAR