BEGIN:VCALENDAR
VERSION:2.0
PRODID:-//CKDH - ECPv4.6.26//NONSGML v1.0//EN
CALSCALE:GREGORIAN
METHOD:PUBLISH
X-WR-CALNAME:CKDH
X-ORIGINAL-URL:https://ckdh.com
X-WR-CALDESC:Events for CKDH
BEGIN:VEVENT
DTSTART;TZID=America/Halifax:20180609T080000
DTEND;TZID=America/Halifax:20180609T110000
DTSTAMP:20260421T135705
CREATED:20180608T121313Z
LAST-MODIFIED:20180608T121313Z
UID:2120-1528531200-1528542000@ckdh.com
SUMMARY:Breakfast
DESCRIPTION:The Knights of Columbus are serving Breakfast this Saturday 8-11 at their hall on Robie Street. The cost is $6 per person. This will be their last breakfast til fall. \n
URL:https://ckdh.com/event/breakfast-7/
END:VEVENT
END:VCALENDAR