BEGIN:VCALENDAR
VERSION:2.0
PRODID:-//CKDH - ECPv4.6.26//NONSGML v1.0//EN
CALSCALE:GREGORIAN
METHOD:PUBLISH
X-WR-CALNAME:CKDH
X-ORIGINAL-URL:https://ckdh.com
X-WR-CALDESC:Events for CKDH
BEGIN:VEVENT
DTSTART;TZID=UTC+0:20170311T080000
DTEND;TZID=UTC+0:20170311T110000
DTSTAMP:20260419T132106
CREATED:20170306T203746Z
LAST-MODIFIED:20170306T203746Z
UID:311-1489219200-1489230000@ckdh.com
SUMMARY:Breakfast
DESCRIPTION:The Knights of Columbus will be serving breakfast Sat Mar 11 from 8-11 at their hall on Robie Street. The cost is $6. \n
URL:https://ckdh.com/event/breakfast/
END:VEVENT
END:VCALENDAR