BEGIN:VCALENDAR
VERSION:2.0
PRODID:-//CKDH - ECPv4.6.26//NONSGML v1.0//EN
CALSCALE:GREGORIAN
METHOD:PUBLISH
X-WR-CALNAME:CKDH
X-ORIGINAL-URL:https://ckdh.com
X-WR-CALDESC:Events for CKDH
BEGIN:VEVENT
DTSTART;TZID=UTC+0:20170824T183000
DTEND;TZID=UTC+0:20170824T183000
DTSTAMP:20260423T184721
CREATED:20170731T162003Z
LAST-MODIFIED:20170731T162003Z
UID:1296-1503599400-1503599400@ckdh.com
SUMMARY:Bridge Fashion Show
DESCRIPTION:The Bridge Adult Service Center is holding a Fashion Show\, Thursday Aug 24 at 6:30 at 16 Station Street. Bridge clients will doing the modelling. There will be 50/50 draws\, sweets and tea or coffee. Admission is $5. For reservations\, call 902-667-8433. \n
URL:https://ckdh.com/event/bridge-fashion-show/
END:VEVENT
END:VCALENDAR