BEGIN:VCALENDAR
VERSION:2.0
PRODID:-//CKDH - ECPv4.6.26//NONSGML v1.0//EN
CALSCALE:GREGORIAN
METHOD:PUBLISH
X-WR-CALNAME:CKDH
X-ORIGINAL-URL:https://ckdh.com
X-WR-CALDESC:Events for CKDH
BEGIN:VEVENT
DTSTART;TZID=America/Halifax:20190508T113000
DTEND;TZID=America/Halifax:20190508T130000
DTSTAMP:20260423T110516
CREATED:20190404T123343Z
LAST-MODIFIED:20190404T123343Z
UID:5861-1557315000-1557320400@ckdh.com
SUMMARY:Bridge Luncheon
DESCRIPTION:There’s a Luncheon at the Bridge Adult Service Center on Station Street\, Wednesday May 8 from 11:30-1. They will be serving soup and chili with dessert and beverage for $8\, eat in or take out. \n
URL:https://ckdh.com/event/bridge-luncheon-3/
END:VEVENT
END:VCALENDAR