BEGIN:VCALENDAR
VERSION:2.0
PRODID:-//CKDH - ECPv4.6.26//NONSGML v1.0//EN
CALSCALE:GREGORIAN
METHOD:PUBLISH
X-WR-CALNAME:CKDH
X-ORIGINAL-URL:https://ckdh.com
X-WR-CALDESC:Events for CKDH
BEGIN:VEVENT
DTSTART;TZID=America/Halifax:20190701T103000
DTEND;TZID=America/Halifax:20190701T150000
DTSTAMP:20260424T083547
CREATED:20190630T193141Z
LAST-MODIFIED:20190630T193141Z
UID:6282-1561977000-1561993200@ckdh.com
SUMMARY:Canada Day Sackville
DESCRIPTION:The Multi K Fun Run and Walk is the first eveny. Meet at the parking lot across from Sackville Public Library at 10:30\, runs start at 11. \nLots of events at Bill Johnstone park from noon til 3\, including musical performances by Tipsy 3. \nShinarama will be holding a BBQ fundraiser. There will be bouncy castles\,face painting\, Lewis the clown and a teddy bear picnic. \nThere’s also a Canada Day Strawberry Social at Boultenhouse Heritage Center from 2-4 \nRain location is the Tantramar Veterans Memorial Civic Center \nCheck the town of Sackville face book page for updates. \n
URL:https://ckdh.com/event/canada-day-sackville/
END:VEVENT
END:VCALENDAR