BEGIN:VCALENDAR
VERSION:2.0
PRODID:-//CKDH - ECPv4.6.26//NONSGML v1.0//EN
CALSCALE:GREGORIAN
METHOD:PUBLISH
X-WR-CALNAME:CKDH
X-ORIGINAL-URL:https://ckdh.com
X-WR-CALDESC:Events for CKDH
BEGIN:VEVENT
DTSTART;TZID=America/Halifax:20190918T130000
DTEND;TZID=America/Halifax:20190918T150000
DTSTAMP:20260423T164531
CREATED:20190904T120027Z
LAST-MODIFIED:20190904T120027Z
UID:6588-1568811600-1568818800@ckdh.com
SUMMARY:CANU - Springhill
DESCRIPTION:Cumberland Adult Network for Upgrading is dedicated to helping adults in Cumberland County improve their literacy\, numeracy and technology skills. If you are looking to upgrade\, it’s Wednesday’s from 1-3. Starting Sept 18\, at the Dr. Carson and Marion Murray Community Center. CANU classes are free. To get more information or register\, go to canu-ns.ca or call 902-661-0153. \n
URL:https://ckdh.com/event/canu-springhill/
END:VEVENT
END:VCALENDAR