BEGIN:VCALENDAR
VERSION:2.0
PRODID:-//CKDH - ECPv4.6.26//NONSGML v1.0//EN
CALSCALE:GREGORIAN
METHOD:PUBLISH
X-WR-CALNAME:CKDH
X-ORIGINAL-URL:https://ckdh.com
X-WR-CALDESC:Events for CKDH
BEGIN:VEVENT
DTSTART;VALUE=DATE:20190516
DTEND;VALUE=DATE:20190517
DTSTAMP:20260422T173832
CREATED:20190514T082416Z
LAST-MODIFIED:20190514T082416Z
UID:6053-1557964800-1558051199@ckdh.com
SUMMARY:CANU Summer Series
DESCRIPTION:Cumberland Adult Network for Upgrading is offering a Summer Series in June and July. They will be offering GED Prep\, to get you ready to write any or all of the 5 GED tests. Better-U\, a lifestyle program for adult learners to improve students over-all well being. Focused Skill Development\, to guide you to reach your goals. And Content Creation\, to express your creativity with various on-line tools. All programs are free. For more information or to register call 902-661-0153 or go to canu-ns.ca\, drop in above the Amherst Library or email office.canu@gmail.com for more details. \n
URL:https://ckdh.com/event/canu-summer-series/
END:VEVENT
END:VCALENDAR