BEGIN:VCALENDAR
VERSION:2.0
PRODID:-//CKDH - ECPv4.6.26//NONSGML v1.0//EN
CALSCALE:GREGORIAN
METHOD:PUBLISH
X-WR-CALNAME:CKDH
X-ORIGINAL-URL:https://ckdh.com
X-WR-CALDESC:Events for CKDH
BEGIN:VEVENT
DTSTART;VALUE=DATE:20190712
DTEND;VALUE=DATE:20190715
DTSTAMP:20260420T053312
CREATED:20190711T154355Z
LAST-MODIFIED:20190711T154355Z
UID:6339-1562889600-1563148799@ckdh.com
SUMMARY:Cape Jourimain Lighthouse 150 Anniversary
DESCRIPTION:The Cape Jourimain Lighthouse 150 Anniversary celebration is on this weekend. Friday night enjoy live music from Kenny James\, Drew Moore and the Junior Jills from 7-10 in the Interpretive Center. Saturday and Sunday\, the first and second floors of the lighthouse will be open from 10-4 and the Interpretive Center will be open from10-4\, with a festival of historic arts and crafts and crafts and games. Saturday there’s a BBQ  noon-2 and anniversary cake at 1. \n
URL:https://ckdh.com/event/cape-jourimain-lighthouse-150-anniversary/
END:VEVENT
END:VCALENDAR