BEGIN:VCALENDAR
VERSION:2.0
PRODID:-//CKDH - ECPv4.6.26//NONSGML v1.0//EN
CALSCALE:GREGORIAN
METHOD:PUBLISH
X-WR-CALNAME:CKDH
X-ORIGINAL-URL:https://ckdh.com
X-WR-CALDESC:Events for CKDH
BEGIN:VEVENT
DTSTART;TZID=UTC+0:20171105T080000
DTEND;TZID=UTC+0:20171105T130000
DTSTAMP:20260421T012054
CREATED:20171030T174932Z
LAST-MODIFIED:20171030T174932Z
UID:1691-1509868800-1509886800@ckdh.com
SUMMARY:CARMA Breakfast
DESCRIPTION:CARMA\, Amherst and Area\, is holding a pancake Breakfast\, Saturday from 8-1 at the Amherst Masonic Hall. The cost is $6 for adults and $4 for children 12 and under. Funds raised support a Trap-Neuter-Release program and helps provides rescue\, care and food for abandoned and stray cats. \n
URL:https://ckdh.com/event/carma-breakfast/
END:VEVENT
END:VCALENDAR