BEGIN:VCALENDAR
VERSION:2.0
PRODID:-//CKDH - ECPv4.6.26//NONSGML v1.0//EN
CALSCALE:GREGORIAN
METHOD:PUBLISH
X-WR-CALNAME:CKDH
X-ORIGINAL-URL:https://ckdh.com
X-WR-CALDESC:Events for CKDH
BEGIN:VEVENT
DTSTART;TZID=UTC+0:20170930T080000
DTEND;TZID=UTC+0:20170930T140000
DTSTAMP:20260423T110327
CREATED:20170928T184842Z
LAST-MODIFIED:20170929T114625Z
UID:1552-1506758400-1506780000@ckdh.com
SUMMARY:CARMA Fall Fair
DESCRIPTION:CARMA Amherst and Area Fall Fair is going on Saturday from 8-2 at the Amherst Lions Den. Tables will include crafts\, books\, preserves\, Christmas\, fall\, Halloween\, pet gifts\, jewelry\, baked goods and yard sale items. There will also be a BBQ. If you bring a food donation for the rescue cats\, you could win the Special Draw. \n
URL:https://ckdh.com/event/carma-fall-fair/
END:VEVENT
END:VCALENDAR