BEGIN:VCALENDAR
VERSION:2.0
PRODID:-//CKDH - ECPv4.6.26//NONSGML v1.0//EN
CALSCALE:GREGORIAN
METHOD:PUBLISH
X-WR-CALNAME:CKDH
X-ORIGINAL-URL:https://ckdh.com
X-WR-CALDESC:Events for CKDH
BEGIN:VEVENT
DTSTART;TZID=UTC+0:20170408T180000
DTEND;TZID=UTC+0:20170408T220000
DTSTAMP:20260422T125651
CREATED:20170322T184630Z
LAST-MODIFIED:20170322T184630Z
UID:408-1491674400-1491688800@ckdh.com
SUMMARY:CARMA’s 3rd Annual Spay-getti Dinner and Evening of Entertainment\,
DESCRIPTION:CARMA’s 3rd Annual Spay-getti Dinner and Evening of Entertainment\, is Saturday  Apr 8 from 6-10 at the Amherst Lions Center. There will be dinner with live entertainment\, a silent auction and door prizes. For every donation of food brought to the dinner\, you will have your name entered into a draw for a special prize at the end of the evening. Tickets are $20 for adults\, $8 for children under 16 and $50 for a family package (2 adults and 2 children). They are available at Scotiabank\, Pet Valu\, Shur Gain Feeds ‘n’ Needs\, and Maritime Mosiac. For more information visit their facebook page carmaamherst. \n
URL:https://ckdh.com/event/carmas-3rd-annual-spay-getti-dinner-and-evening-of-entertainment/
END:VEVENT
END:VCALENDAR