BEGIN:VCALENDAR
VERSION:2.0
PRODID:-//CKDH - ECPv4.6.26//NONSGML v1.0//EN
CALSCALE:GREGORIAN
METHOD:PUBLISH
X-WR-CALNAME:CKDH
X-ORIGINAL-URL:https://ckdh.com
X-WR-CALDESC:Events for CKDH
BEGIN:VEVENT
DTSTART;TZID=America/Halifax:20200215T110000
DTEND;TZID=America/Halifax:20200215T140000
DTSTAMP:20260424T111817
CREATED:20200127T162419Z
LAST-MODIFIED:20200127T162419Z
UID:7394-1581764400-1581775200@ckdh.com
SUMMARY:Chili Challenge
DESCRIPTION:The 6th Annual Winter Carnival Chili Challenge is Saturday Feb 15 from 11-12 at Dayles Grand Market. Make sure you try each one of the local celebrities chili and vote for your favorite. \n
URL:https://ckdh.com/event/chili-challenge/
END:VEVENT
END:VCALENDAR