BEGIN:VCALENDAR
VERSION:2.0
PRODID:-//CKDH - ECPv4.6.26//NONSGML v1.0//EN
CALSCALE:GREGORIAN
METHOD:PUBLISH
X-WR-CALNAME:CKDH
X-ORIGINAL-URL:https://ckdh.com
X-WR-CALDESC:Events for CKDH
BEGIN:VEVENT
DTSTART;VALUE=DATE:20170127
DTEND;VALUE=DATE:20170206
DTSTAMP:20260424T150050
CREATED:20170215T234915Z
LAST-MODIFIED:20170215T234915Z
UID:112-1485475200-1486339199@ckdh.com
SUMMARY:Chilli Willi Winter Carnival
DESCRIPTION:This year’s Chilli Willi Winter Carnival in Springhill is Jan 27-Feb 5. There are lots activities for the whole family. Among the events are a Legion breakfast\, Snowshoe and Brew\, a crib tournament\, hockey games including an outdoor 3 on 3 tournament\, paint nights for kids and for adults a family coasting party and more. For more information call 902-763-3000 or check the Springhill Leisure Services facebook page. \n
URL:https://ckdh.com/event/chilli-willi-winter-carnival/
END:VEVENT
END:VCALENDAR