BEGIN:VCALENDAR
VERSION:2.0
PRODID:-//CKDH - ECPv4.6.26//NONSGML v1.0//EN
CALSCALE:GREGORIAN
METHOD:PUBLISH
X-WR-CALNAME:CKDH
X-ORIGINAL-URL:https://ckdh.com
X-WR-CALDESC:Events for CKDH
BEGIN:VEVENT
DTSTART;TZID=America/Halifax:20181215T200000
DTEND;TZID=America/Halifax:20181215T230000
DTSTAMP:20260422T054928
CREATED:20181127T154253Z
LAST-MODIFIED:20181127T154253Z
UID:5239-1544904000-1544914800@ckdh.com
SUMMARY:Christmas Casino Night
DESCRIPTION:The Joggins Improvement Committee is sponsoring a Christmas Casino Night\, Sat Dec 15 from 8-11 at the Joggins Legion. The cost is $20 at the door. \nYour ticket gives you chips to play various games. Use your remaining chips to bid on lots of prizes at the end of the night. There will be live music and door prizes\, and everyone who attends has a chance to win a prize at the end of the night. Proceeds will be used for the Community Log Building and future projects. \n
URL:https://ckdh.com/event/christmas-casino-night/
END:VEVENT
END:VCALENDAR