BEGIN:VCALENDAR
VERSION:2.0
PRODID:-//CKDH - ECPv4.6.26//NONSGML v1.0//EN
CALSCALE:GREGORIAN
METHOD:PUBLISH
X-WR-CALNAME:CKDH
X-ORIGINAL-URL:https://ckdh.com
X-WR-CALDESC:Events for CKDH
BEGIN:VEVENT
DTSTART;TZID=UTC+0:20171116T100000
DTEND;TZID=UTC+0:20171116T140000
DTSTAMP:20260421T122021
CREATED:20171116T185714Z
LAST-MODIFIED:20171116T185714Z
UID:1814-1510826400-1510840800@ckdh.com
SUMMARY:Christmas Market and Luncheon
DESCRIPTION:There will be a Christmas Market and Luncheon at the Amherst First Baptist Church Saturday Dec 9. The market is from 10-2\, with a luncheon from 10-1:30. They will be serving hamburger soup and chilli for $8. Proceeds support Christmas for Kids and competitive students of JC’s Tae Kwon Do. \n
URL:https://ckdh.com/event/christmas-market-and-luncheon/
END:VEVENT
END:VCALENDAR