BEGIN:VCALENDAR
VERSION:2.0
PRODID:-//CKDH - ECPv4.6.26//NONSGML v1.0//EN
CALSCALE:GREGORIAN
METHOD:PUBLISH
X-WR-CALNAME:CKDH
X-ORIGINAL-URL:https://ckdh.com
X-WR-CALDESC:Events for CKDH
BEGIN:VEVENT
DTSTART;TZID=America/Halifax:20191115T110000
DTEND;TZID=America/Halifax:20191115T130000
DTSTAMP:20260425T174741
CREATED:20191030T151723Z
LAST-MODIFIED:20191030T151723Z
UID:6932-1573815600-1573822800@ckdh.com
SUMMARY:Christmas Tea and Craft Sale
DESCRIPTION:First Baptist Church of Amherst Presents Christmas Tea & Craft Sale on Friday\, November 15th from 11-1. Celebrate Christmas in Downtown Amherst and enjoy sandwiches\, sweets\, tea/coffee as well as a Craft Sale. Cost is $8.00. \n
URL:https://ckdh.com/event/christmas-tea-and-craft-sale/
END:VEVENT
END:VCALENDAR