BEGIN:VCALENDAR
VERSION:2.0
PRODID:-//CKDH - ECPv4.6.26//NONSGML v1.0//EN
CALSCALE:GREGORIAN
METHOD:PUBLISH
X-WR-CALNAME:CKDH
X-ORIGINAL-URL:https://ckdh.com
X-WR-CALDESC:Events for CKDH
BEGIN:VEVENT
DTSTART;TZID=America/Halifax:20181118T110000
DTEND;TZID=America/Halifax:20181118T123000
DTSTAMP:20260423T050906
CREATED:20181113T150429Z
LAST-MODIFIED:20181113T150429Z
UID:5165-1542538800-1542544200@ckdh.com
SUMMARY:Christmas Tea and Sale
DESCRIPTION:The St. Thomas Aquinas Ladies Council will holding their annual Christmas Tea and Sale on Sunday\, November 18\, from 11 to 12:30.  Lunch is $5.00 and there be three door prizes to be drawn.  There will be bake\, craft\, fudge\, 50/50 tickets\, a used Christmas Items tables and books. \n
URL:https://ckdh.com/event/christmas-tea-and-sale-3/
END:VEVENT
END:VCALENDAR