BEGIN:VCALENDAR
VERSION:2.0
PRODID:-//CKDH - ECPv4.6.26//NONSGML v1.0//EN
CALSCALE:GREGORIAN
METHOD:PUBLISH
X-WR-CALNAME:CKDH
X-ORIGINAL-URL:https://ckdh.com
X-WR-CALDESC:Events for CKDH
BEGIN:VEVENT
DTSTART;TZID=America/Halifax:20181201T100000
DTEND;TZID=America/Halifax:20181201T130000
DTSTAMP:20260423T010441
CREATED:20181127T154644Z
LAST-MODIFIED:20181130T125919Z
UID:5245-1543658400-1543669200@ckdh.com
SUMMARY:Christmas Tea and Sale
DESCRIPTION:There’s a Christmas Tea and Sale Saturday 10-1 at the Brookdale Community Hall . Lunch is soup and dessert for $8. There will be a bake table\, a craft table and new to you Christmas decorations for sale. The event is hosted by the Brookdale Sewing Circle. \n
URL:https://ckdh.com/event/christmas-tea-and-sale-4/
END:VEVENT
END:VCALENDAR