BEGIN:VCALENDAR
VERSION:2.0
PRODID:-//CKDH - ECPv4.6.26//NONSGML v1.0//EN
CALSCALE:GREGORIAN
METHOD:PUBLISH
X-WR-CALNAME:CKDH
X-ORIGINAL-URL:https://ckdh.com
X-WR-CALDESC:Events for CKDH
BEGIN:VEVENT
DTSTART;TZID=UTC+0:20170510T190000
DTEND;TZID=UTC+0:20170510T190000
DTSTAMP:20260421T131617
CREATED:20170502T192500Z
LAST-MODIFIED:20170502T192500Z
UID:791-1494442800-1494442800@ckdh.com
SUMMARY:Classic Movie Night
DESCRIPTION:It’s Classic Movie Night\, Wed May 10 at the Springhill Library. They will be showing Women\, with Norma Shearer and Joan Crawford. Show starts at 7. \n
URL:https://ckdh.com/event/classic-movie-night-3/
END:VEVENT
END:VCALENDAR