BEGIN:VCALENDAR
VERSION:2.0
PRODID:-//CKDH - ECPv4.6.26//NONSGML v1.0//EN
CALSCALE:GREGORIAN
METHOD:PUBLISH
X-WR-CALNAME:CKDH
X-ORIGINAL-URL:https://ckdh.com
X-WR-CALDESC:Events for CKDH
BEGIN:VEVENT
DTSTART;TZID=UTC+0:20171213T190000
DTEND;TZID=UTC+0:20171213T190000
DTSTAMP:20260423T110730
CREATED:20171127T192940Z
LAST-MODIFIED:20171127T192940Z
UID:1872-1513191600-1513191600@ckdh.com
SUMMARY:Classic Movie Night
DESCRIPTION:It’s Classic Movie Night at the Springhill Library\, Wed Dec 13 at 7. They will be showing\, The Shop Around the Corner\, with Jimmy Stewart and Margaret Sullivan. \n
URL:https://ckdh.com/event/classic-movie-night-4/
END:VEVENT
END:VCALENDAR