BEGIN:VCALENDAR
VERSION:2.0
PRODID:-//CKDH - ECPv4.6.26//NONSGML v1.0//EN
CALSCALE:GREGORIAN
METHOD:PUBLISH
X-WR-CALNAME:CKDH
X-ORIGINAL-URL:https://ckdh.com
X-WR-CALDESC:Events for CKDH
BEGIN:VEVENT
DTSTART;TZID=America/Halifax:20181129T190000
DTEND;TZID=America/Halifax:20181129T203000
DTSTAMP:20260422T110213
CREATED:20181122T171029Z
LAST-MODIFIED:20181122T171029Z
UID:5205-1543518000-1543523400@ckdh.com
SUMMARY:Clothing Swap and Mocktail Party
DESCRIPTION:Ideal Protein and Amherst Pharmasave are presenting a Clothing Swap and Mocktail Party at Robins Donuts Thursday Nov 29\, 7-8:30 at Robin’s Donuts. Swap clothing you no longer need and take home other pre-loved items. Anything left over\, will be donated. There will be door prizes. There is no charge for the event\, but you have to RSVP your free seat by calling 902-667-3784. \n  \n
URL:https://ckdh.com/event/clothing-swap-and-mocktail-party/
END:VEVENT
END:VCALENDAR