BEGIN:VCALENDAR
VERSION:2.0
PRODID:-//CKDH - ECPv4.6.26//NONSGML v1.0//EN
CALSCALE:GREGORIAN
METHOD:PUBLISH
X-WR-CALNAME:CKDH
X-ORIGINAL-URL:https://ckdh.com
X-WR-CALDESC:Events for CKDH
BEGIN:VEVENT
DTSTART;TZID=America/Halifax:20190910T080000
DTEND;TZID=America/Halifax:20190910T170000
DTSTAMP:20260424T173812
CREATED:20190910T162057Z
LAST-MODIFIED:20190910T162057Z
UID:6621-1568102400-1568134800@ckdh.com
SUMMARY:Community Shred/Household Hazardous Waste Event
DESCRIPTION:Friday there will be a Community Shred Event at the Amherst Fire Hall for residential materials from 11-2. Saturday\, There will be a Hazardous Waste Event at the Amherst Fire hall from 9-noon. What’s accepted? Acids\, aerosols\, antifreeze\, batteries\, gasoline\, herbicides\, pesticides\, propane tanks and pool cleaners. \nThere are Household Hazardous Waste Events on Saturday Oct 5 in Cumberland County\, to make-up for the one postponed from Sept 7. [In Parrsboro it’s 8:30-9:30 at the Parrsboro Town Garage. At the Pugwash Transfer Station from 11-noon. At the Oxford Transfer Station from 1-2 and the Dr\, carson and Marion Murray Communality Center in the overflow parking lot from 3-4.] \n
URL:https://ckdh.com/event/community-shred-household-hazardous-waste-event/
END:VEVENT
END:VCALENDAR