BEGIN:VCALENDAR
VERSION:2.0
PRODID:-//CKDH - ECPv4.6.26//NONSGML v1.0//EN
CALSCALE:GREGORIAN
METHOD:PUBLISH
X-WR-CALNAME:CKDH
X-ORIGINAL-URL:https://ckdh.com
X-WR-CALDESC:Events for CKDH
BEGIN:VEVENT
DTSTART;VALUE=DATE:20201130
DTEND;VALUE=DATE:20201201
DTSTAMP:20260421T113145
CREATED:20201130T134348Z
LAST-MODIFIED:20201130T134348Z
UID:8209-1606694400-1606780799@ckdh.com
SUMMARY:Community Support Grants.
DESCRIPTION:The Town of Amherst is now accepting applications for Community Support Grants. Applications can be turned in at Amherst Town Hall during regular business hours or mailed to PO BOX 516\, Amherst\, NS.\, B4H 4A1. \nApplications can be found at https://amherst.ca/submit-a-request-form.html. The deadline to apply is Dec 31. \n
URL:https://ckdh.com/event/community-support-grants-2/
END:VEVENT
END:VCALENDAR