BEGIN:VCALENDAR
VERSION:2.0
PRODID:-//CKDH - ECPv4.6.26//NONSGML v1.0//EN
CALSCALE:GREGORIAN
METHOD:PUBLISH
X-WR-CALNAME:CKDH
X-ORIGINAL-URL:https://ckdh.com
X-WR-CALDESC:Events for CKDH
BEGIN:VEVENT
DTSTART;VALUE=DATE:20181023
DTEND;VALUE=DATE:20181024
DTSTAMP:20260422T112244
CREATED:20181022T160452Z
LAST-MODIFIED:20181022T160452Z
UID:5058-1540252800-1540339199@ckdh.com
SUMMARY:Cookie Crawl
DESCRIPTION:The Town of Amherst is holding a Cookie Crawl\, Friday Dec 14 from 4-8. Buy your ticket in advance and then take it to Amherst Town Hall on Dec 14\, and exchange it for an empty cookie tin and a map of participating businesses that will have Christmas cookies to fill your tin. A limited number of tins are available\, so get your tickets early for $20\, at Eventbrite.ca \n
URL:https://ckdh.com/event/cookie-crawl/
END:VEVENT
END:VCALENDAR