BEGIN:VCALENDAR
VERSION:2.0
PRODID:-//CKDH - ECPv4.6.26//NONSGML v1.0//EN
CALSCALE:GREGORIAN
METHOD:PUBLISH
X-WR-CALNAME:CKDH
X-ORIGINAL-URL:https://ckdh.com
X-WR-CALDESC:Events for CKDH
BEGIN:VEVENT
DTSTART;TZID=America/Halifax:20180908T190000
DTEND;TZID=America/Halifax:20180908T190000
DTSTAMP:20260423T110916
CREATED:20180831T133325Z
LAST-MODIFIED:20180831T133325Z
UID:4885-1536433200-1536433200@ckdh.com
SUMMARY:Cornerstone at Wesley St Matthew’s United Church
DESCRIPTION:The group Cornerstone is holding a concert at Wesley St Matthew’s United Church in Pugwash\, Sat Sept 8 starting at 7. Admission is a free will offering. Proceeds are for church upkeep. \n
URL:https://ckdh.com/event/cornerstone-at-wesley-st-matthews-united-church/
END:VEVENT
END:VCALENDAR