BEGIN:VCALENDAR
VERSION:2.0
PRODID:-//CKDH - ECPv4.6.26//NONSGML v1.0//EN
CALSCALE:GREGORIAN
METHOD:PUBLISH
X-WR-CALNAME:CKDH
X-ORIGINAL-URL:https://ckdh.com
X-WR-CALDESC:Events for CKDH
BEGIN:VEVENT
DTSTART;TZID=America/Halifax:20190403T100000
DTEND;TZID=America/Halifax:20190403T120000
DTSTAMP:20260419T163408
CREATED:20190326T142321Z
LAST-MODIFIED:20190326T142321Z
UID:5787-1554285600-1554292800@ckdh.com
SUMMARY:Country Gospel Morning
DESCRIPTION:There’s a Country Gospel Morning Wednesday April 3 10-noon at the Amherst Wesleyan Church. Music from Ruth Shearer and special guests. The admission is free and snacks will be provided. \n
URL:https://ckdh.com/event/country-gospel-morning-5/
END:VEVENT
END:VCALENDAR