BEGIN:VCALENDAR
VERSION:2.0
PRODID:-//CKDH - ECPv4.6.26//NONSGML v1.0//EN
CALSCALE:GREGORIAN
METHOD:PUBLISH
X-WR-CALNAME:CKDH
X-ORIGINAL-URL:https://ckdh.com
X-WR-CALDESC:Events for CKDH
BEGIN:VEVENT
DTSTART;TZID=America/Halifax:20181209T190000
DTEND;TZID=America/Halifax:20181209T190000
DTSTAMP:20260422T230139
CREATED:20181126T162712Z
LAST-MODIFIED:20181126T162712Z
UID:5227-1544382000-1544382000@ckdh.com
SUMMARY:Country Gospel Music Night
DESCRIPTION:There will be a Country Gospel Music Night\, Sunday Dec 9\, at 7 at the Amherst Wesleyan Church. Musical guests include Bus 41 and LP Express. Admission is by donation\, with proceeds to support the Christmas Wrap-up Community Blessing Project Dec 15th. \n
URL:https://ckdh.com/event/country-gospel-music-night/
END:VEVENT
END:VCALENDAR