BEGIN:VCALENDAR
VERSION:2.0
PRODID:-//CKDH - ECPv4.6.26//NONSGML v1.0//EN
CALSCALE:GREGORIAN
METHOD:PUBLISH
X-WR-CALNAME:CKDH
X-ORIGINAL-URL:https://ckdh.com
X-WR-CALDESC:Events for CKDH
BEGIN:VEVENT
DTSTART;TZID=America/Halifax:20190810T153000
DTEND;TZID=America/Halifax:20190810T180000
DTSTAMP:20260421T000624
CREATED:20190801T143502Z
LAST-MODIFIED:20190801T143502Z
UID:6436-1565451000-1565460000@ckdh.com
SUMMARY:Country Supper
DESCRIPTION:There will be a Country Supper\, Saturday Aug 10 at the Linden Community Hall\, from 3:30-6. There will be hot and cold dishes\, dessert and beverage for $12. The supper is $6 for those 11 and up and free for pre-schoolers. \n
URL:https://ckdh.com/event/country-supper-4/
END:VEVENT
END:VCALENDAR