BEGIN:VCALENDAR
VERSION:2.0
PRODID:-//CKDH - ECPv4.6.26//NONSGML v1.0//EN
CALSCALE:GREGORIAN
METHOD:PUBLISH
X-WR-CALNAME:CKDH
X-ORIGINAL-URL:https://ckdh.com
X-WR-CALDESC:Events for CKDH
BEGIN:VEVENT
DTSTART;TZID=America/Halifax:20181020T100000
DTEND;TZID=America/Halifax:20181020T180000
DTSTAMP:20260422T105919
CREATED:20180927T101742Z
LAST-MODIFIED:20180927T101742Z
UID:4967-1540029600-1540058400@ckdh.com
SUMMARY:Craft Sale
DESCRIPTION:The Oxford Volunteer Fire Department Ladies Auxiliary is holding a Craft Sale Saturday Oct 20 from 10-6 at the Oxford Fire Hall. The canteen will be open. \n
URL:https://ckdh.com/event/craft-sale-2/
END:VEVENT
END:VCALENDAR