BEGIN:VCALENDAR
VERSION:2.0
PRODID:-//CKDH - ECPv4.6.26//NONSGML v1.0//EN
CALSCALE:GREGORIAN
METHOD:PUBLISH
X-WR-CALNAME:CKDH
X-ORIGINAL-URL:https://ckdh.com
X-WR-CALDESC:Events for CKDH
BEGIN:VEVENT
DTSTART;TZID=America/Halifax:20190830T130000
DTEND;TZID=America/Halifax:20190830T160000
DTSTAMP:20260425T151132
CREATED:20190815T140718Z
LAST-MODIFIED:20190829T115846Z
UID:6507-1567170000-1567180800@ckdh.com
SUMMARY:Cram-A-Cruiser
DESCRIPTION:Join the Amherst Town Police and Maggie’s Place at the Amherst Superstore Friday Aug 30\, for Cram-A-Cruiser. Between 1 and 4\, let’s see if we can collect enough school supplies\, to fill the Police Cruiser. (Here’s what they are looking for: Campfire notebooks\, loose leaf\, lunch bags\, dividers\, pencil cases\, white out\, highlighters\, pens\, scissors\, dry ease markers and rulers.) \n
URL:https://ckdh.com/event/cram-a-cruiser-3/
END:VEVENT
END:VCALENDAR