BEGIN:VCALENDAR
VERSION:2.0
PRODID:-//CKDH - ECPv4.6.26//NONSGML v1.0//EN
CALSCALE:GREGORIAN
METHOD:PUBLISH
X-WR-CALNAME:CKDH
X-ORIGINAL-URL:https://ckdh.com
X-WR-CALDESC:Events for CKDH
BEGIN:VEVENT
DTSTART;TZID=America/Halifax:20181215T130000
DTEND;TZID=America/Halifax:20181215T150000
DTSTAMP:20260422T192557
CREATED:20181210T165653Z
LAST-MODIFIED:20181210T165653Z
UID:5308-1544878800-1544886000@ckdh.com
SUMMARY:Create a Birch Bark Wreath
DESCRIPTION:Join Joy Henderson has she helps you create your own Christmas birch bark wreath at the Fundy Geological Museum\, Saturday from 1-3. Price is $25 per person and all you need to bring is a pair of gloves. Call 902-254-3814 or email fundygeo@novascotia.ca to pre-register. \n  \n  \n
URL:https://ckdh.com/event/create-a-birch-bark-wreath/
END:VEVENT
END:VCALENDAR