BEGIN:VCALENDAR
VERSION:2.0
PRODID:-//CKDH - ECPv4.6.26//NONSGML v1.0//EN
CALSCALE:GREGORIAN
METHOD:PUBLISH
X-WR-CALNAME:CKDH
X-ORIGINAL-URL:https://ckdh.com
X-WR-CALDESC:Events for CKDH
BEGIN:VEVENT
DTSTART;TZID=UTC+0:20171105T130000
DTEND;TZID=UTC+0:20171105T130000
DTSTAMP:20260421T024854
CREATED:20171024T170203Z
LAST-MODIFIED:20171024T170203Z
UID:1679-1509886800-1509886800@ckdh.com
SUMMARY:Crib Tournament
DESCRIPTION:The Air Force Association on Havelock Street are holding a Crib Tournament Sunday Nov 5 at 1. You must have a partner. \n
URL:https://ckdh.com/event/crib-tournament-8/
END:VEVENT
END:VCALENDAR