BEGIN:VCALENDAR
VERSION:2.0
PRODID:-//CKDH - ECPv4.6.26//NONSGML v1.0//EN
CALSCALE:GREGORIAN
METHOD:PUBLISH
X-WR-CALNAME:CKDH
X-ORIGINAL-URL:https://ckdh.com
X-WR-CALDESC:Events for CKDH
BEGIN:VEVENT
DTSTART;VALUE=DATE:20190830
DTEND;VALUE=DATE:20190831
DTSTAMP:20260423T103000
CREATED:20190829T152628Z
LAST-MODIFIED:20190829T152628Z
UID:6561-1567123200-1567209599@ckdh.com
SUMMARY:Cumberland County Exhibition
DESCRIPTION:It’s another great day at the Cumberland County Exhibition in Oxford. \nThe Grand Champion Equitation is at 2:45. Maltby Stables Barrel racing starts at 4.  At 6:30 there’s the market lamb sale and at 7:30 the horse pulls. On the 2nd Stage\, Disney’s Elsa and Anna will be there at 3. At 5:30 it’s Chelsea Atkinson and at 7 Silver Rose. Saturday\, the Parade starts at 1\, the Blueberry Bake-off is at 4:30 and at 5:30 Farmers Olympics. See you at the Cumberland County Exhibition last 2 days in Oxford. \n
URL:https://ckdh.com/event/cumberland-county-exhibition-4/
END:VEVENT
END:VCALENDAR