BEGIN:VCALENDAR
VERSION:2.0
PRODID:-//CKDH - ECPv4.6.26//NONSGML v1.0//EN
CALSCALE:GREGORIAN
METHOD:PUBLISH
X-WR-CALNAME:CKDH
X-ORIGINAL-URL:https://ckdh.com
X-WR-CALDESC:Events for CKDH
BEGIN:VEVENT
DTSTART;TZID=UTC+0:20171021T190000
DTEND;TZID=UTC+0:20171021T190000
DTSTAMP:20260419T190213
CREATED:20171005T183024Z
LAST-MODIFIED:20171005T183024Z
UID:1588-1508612400-1508612400@ckdh.com
SUMMARY:Cumberland Hospice Palliative Care Society Presents The Second Annual Fundraiser
DESCRIPTION:The Cumberland Hospice Palliative Care Society Presents The Second Annual Fundraiser\, featuring The Rollickers with Special Guests “4-Fun”\, Saturday October 21st at 7 at the Capitol Theatre Oxford. All Proceeds for Cumberland County Hospice Palliative Care Society. Admission is a free will offering. Seating is Limited. For More information call the Hospice Office 902-669-0261. \n
URL:https://ckdh.com/event/cumberland-hospice-palliative-care-society-presents-the-second-annual-fundraiser/
END:VEVENT
END:VCALENDAR