BEGIN:VCALENDAR
VERSION:2.0
PRODID:-//CKDH - ECPv4.6.26//NONSGML v1.0//EN
CALSCALE:GREGORIAN
METHOD:PUBLISH
X-WR-CALNAME:CKDH
X-ORIGINAL-URL:https://ckdh.com
X-WR-CALDESC:Events for CKDH
BEGIN:VEVENT
DTSTART;VALUE=DATE:20171023
DTEND;VALUE=DATE:20171024
DTSTAMP:20260419T223054
CREATED:20171018T185941Z
LAST-MODIFIED:20171018T185941Z
UID:1637-1508716800-1508803199@ckdh.com
SUMMARY:Cumberland Y Service Club Citrus and Apple Sale
DESCRIPTION:The Cumberland Y Service Club is now taking orders for oranges\, grapefruit and apples\, with their Citrus and Apple Sale. For more information\, or to place an order call 902-667-3479. Orders should arrive the third week in November. \n
URL:https://ckdh.com/event/cumberland-y-service-club-citrus-and-apple-sale-2/
END:VEVENT
END:VCALENDAR