BEGIN:VCALENDAR
VERSION:2.0
PRODID:-//CKDH - ECPv4.6.26//NONSGML v1.0//EN
CALSCALE:GREGORIAN
METHOD:PUBLISH
X-WR-CALNAME:CKDH
X-ORIGINAL-URL:https://ckdh.com
X-WR-CALDESC:Events for CKDH
BEGIN:VEVENT
DTSTART;VALUE=DATE:20171218
DTEND;VALUE=DATE:20171219
DTSTAMP:20260424T135854
CREATED:20171213T163534Z
LAST-MODIFIED:20171213T163534Z
UID:1954-1513555200-1513641599@ckdh.com
SUMMARY:Cumberland Y - Tai Chi
DESCRIPTION:The YMCA of Cumberland will be offering a 4 week winter session of Tai Chi beginning Jan 25. The sessions are Thursday nights from 7-8. Registration deadline is Jan 23. For more information\, contact Ashley Grace at the Y at 902-667-9112. This is a YMCA of Cumberland Full of Life program and is free. \n
URL:https://ckdh.com/event/cumberland-y-tai-chi/
END:VEVENT
END:VCALENDAR