BEGIN:VCALENDAR
VERSION:2.0
PRODID:-//CKDH - ECPv4.6.26//NONSGML v1.0//EN
CALSCALE:GREGORIAN
METHOD:PUBLISH
X-WR-CALNAME:CKDH
X-ORIGINAL-URL:https://ckdh.com
X-WR-CALDESC:Events for CKDH
BEGIN:VEVENT
DTSTART;TZID=UTC+0:20170519T100000
DTEND;TZID=UTC+0:20170519T150000
DTSTAMP:20260425T143048
CREATED:20170509T175901Z
LAST-MODIFIED:20170509T175901Z
UID:828-1495188000-1495206000@ckdh.com
SUMMARY:Cumberland Y’s Strong Kids Ball Hockey Cup
DESCRIPTION:The Cumberland Y’s Strong Kids Ball Hockey Cup is Fri May 19\, 10-3 in the Y parking lot. Advanced registration is required. Pick up a form at the Y’s front desk. There are two team categories\, 7-10 and 11-14. Each team can have a maximum of 7 players\, and the cost is $35 per team. Individuals can register for $7 and be placed on a team. More information at 902-667-9112. All funds raised will go to the Strong Kids Campaign and will be double-matched by Canadian Tire Amherst. \n
URL:https://ckdh.com/event/cumberland-ys-strong-kids-ball-hockey-cup/
END:VEVENT
END:VCALENDAR