BEGIN:VCALENDAR
VERSION:2.0
PRODID:-//CKDH - ECPv4.6.26//NONSGML v1.0//EN
CALSCALE:GREGORIAN
METHOD:PUBLISH
X-WR-CALNAME:CKDH
X-ORIGINAL-URL:https://ckdh.com
X-WR-CALDESC:Events for CKDH
BEGIN:VEVENT
DTSTART;TZID=America/Halifax:20200108T180000
DTEND;TZID=America/Halifax:20200108T190000
DTSTAMP:20260424T111647
CREATED:20200102T162247Z
LAST-MODIFIED:20200102T162247Z
UID:7277-1578506400-1578510000@ckdh.com
SUMMARY:Dance! Dance!
DESCRIPTION:If you have kids that like to move and dance\, the YMCA of Cumberland is offering a 6 week winter session of Dance! Dance! At the Parrsboro Elementary School. It’s Wednesdays 6-6:30 for 2-4 year olds and 6:30-7 for 5-8 year olds\, starting Wednesday Jan 8. The cost is $40\, payable on the first night. For more information\, call 902-667-9112 or email HFA@cumberland.ymca.ca. \n
URL:https://ckdh.com/event/dance-dance/
END:VEVENT
END:VCALENDAR