BEGIN:VCALENDAR
VERSION:2.0
PRODID:-//CKDH - ECPv4.6.26//NONSGML v1.0//EN
CALSCALE:GREGORIAN
METHOD:PUBLISH
X-WR-CALNAME:CKDH
X-ORIGINAL-URL:https://ckdh.com
X-WR-CALDESC:Events for CKDH
BEGIN:VEVENT
DTSTART;TZID=America/Halifax:20180913T190000
DTEND;TZID=America/Halifax:20180913T190000
DTSTAMP:20260423T100029
CREATED:20180829T130040Z
LAST-MODIFIED:20180829T130040Z
UID:4832-1536865200-1536865200@ckdh.com
SUMMARY:Debate on Fracking
DESCRIPTION:The Six Rivers Chamber of Commerce and Friends of Cumberland County will be hosting a Debate on Fracking\, Thursday Sept 13 at 7 at the Northumberland Curling Club in Pugwash. The admission is free and audience discussion will be encouraged. \n
URL:https://ckdh.com/event/debate-on-fracking/
END:VEVENT
END:VCALENDAR