BEGIN:VCALENDAR
VERSION:2.0
PRODID:-//CKDH - ECPv4.6.26//NONSGML v1.0//EN
CALSCALE:GREGORIAN
METHOD:PUBLISH
X-WR-CALNAME:CKDH
X-ORIGINAL-URL:https://ckdh.com
X-WR-CALDESC:Events for CKDH
BEGIN:VEVENT
DTSTART;VALUE=DATE:20200404
DTEND;VALUE=DATE:20200405
DTSTAMP:20260419T161824
CREATED:20200323T121421Z
LAST-MODIFIED:20200323T121421Z
UID:7753-1585958400-1586044799@ckdh.com
SUMMARY:Decorate Your Windows
DESCRIPTION:Want to brighten up our community? Decorate your windows. Today decorate them with Easter eggs. Then share your photo. The Amherst recreation department would like you to share with them too. Send them to amherstrecreation@amherst.ca \n
URL:https://ckdh.com/event/decorate-your-windows-5/
END:VEVENT
END:VCALENDAR