BEGIN:VCALENDAR
VERSION:2.0
PRODID:-//CKDH - ECPv4.6.26//NONSGML v1.0//EN
CALSCALE:GREGORIAN
METHOD:PUBLISH
X-WR-CALNAME:CKDH
X-ORIGINAL-URL:https://ckdh.com
X-WR-CALDESC:Events for CKDH
BEGIN:VEVENT
DTSTART;TZID=America/Halifax:20190209T110000
DTEND;TZID=America/Halifax:20190209T160000
DTSTAMP:20260422T103529
CREATED:20190208T085413Z
LAST-MODIFIED:20190208T085413Z
UID:5563-1549710000-1549728000@ckdh.com
SUMMARY:Doggy Spa Day
DESCRIPTION:Carma Amherst and Our Pack Animal Rescue are holding a Doggy Spa Day at Pet Valu Saturday from 11-4. For a minimum $20 donation\, get you pet all spruced up for Valentine’s Day\, with a wash\, brush\, and nail trim plus a photo. All proceeds to rescues. \n
URL:https://ckdh.com/event/doggy-spa-day/
END:VEVENT
END:VCALENDAR