BEGIN:VCALENDAR
VERSION:2.0
PRODID:-//CKDH - ECPv4.6.26//NONSGML v1.0//EN
CALSCALE:GREGORIAN
METHOD:PUBLISH
X-WR-CALNAME:CKDH
X-ORIGINAL-URL:https://ckdh.com
X-WR-CALDESC:Events for CKDH
BEGIN:VEVENT
DTSTART;TZID=America/Halifax:20190418T150000
DTEND;TZID=America/Halifax:20190418T160000
DTSTAMP:20260423T064935
CREATED:20190401T155442Z
LAST-MODIFIED:20190401T155442Z
UID:5819-1555599600-1555603200@ckdh.com
SUMMARY:Dying Eggs - Springhill Library
DESCRIPTION:It’s could get messy at the Springhill Library Thursday April 18. They will be dying eggs for Easter from 3-4. Call 902-597-2211 to register. Children under 9 must be accompanied by an adult. \n
URL:https://ckdh.com/event/dying-eggs-springhill-library/
END:VEVENT
END:VCALENDAR