BEGIN:VCALENDAR
VERSION:2.0
PRODID:-//CKDH - ECPv4.6.26//NONSGML v1.0//EN
CALSCALE:GREGORIAN
METHOD:PUBLISH
X-WR-CALNAME:CKDH
X-ORIGINAL-URL:https://ckdh.com
X-WR-CALDESC:Events for CKDH
BEGIN:VEVENT
DTSTART;TZID=UTC+0:20170520T193000
DTEND;TZID=UTC+0:20170520T193000
DTSTAMP:20260423T102203
CREATED:20170427T185444Z
LAST-MODIFIED:20170427T185444Z
UID:777-1495308600-1495308600@ckdh.com
SUMMARY:East Coast Music Show
DESCRIPTION:There’s an East Coast Music Show\, Sat May 20 at 7:30 at the Capitol Theatre in Oxford. Among the performers will be the Cobequid Funtones\, Silver Rose\, the Terrio Sisters\, Lawry and Mary MacLeod\, Claire Canning\, Jim Scopie\, Elaine Cook\, The Rollickers and Leah Killen. Admission is $12\nat the door. There will be a 50/50 draw and a canteen. For more information call 902-447-2006.\n  \n
URL:https://ckdh.com/event/east-coast-music-show/
END:VEVENT
END:VCALENDAR