BEGIN:VCALENDAR
VERSION:2.0
PRODID:-//CKDH - ECPv4.6.26//NONSGML v1.0//EN
CALSCALE:GREGORIAN
METHOD:PUBLISH
X-WR-CALNAME:CKDH
X-ORIGINAL-URL:https://ckdh.com
X-WR-CALDESC:Events for CKDH
BEGIN:VEVENT
DTSTART;TZID=America/Halifax:20181028T020000
DTEND;TZID=America/Halifax:20181028T160000
DTSTAMP:20260423T110608
CREATED:20181022T160052Z
LAST-MODIFIED:20181022T160052Z
UID:5054-1540692000-1540742400@ckdh.com
SUMMARY:Eileen Lewis - Fundraiser
DESCRIPTION:There’s a Fundraiser for Eileen Lewis\, Sunday 2-4 at Winegarden Estate in Baie Verte. Music by Pic ‘N’ Grin\, the Carter Girls and a special guest. There will also be a 50/50. Admission is a donation at the door. \n
URL:https://ckdh.com/event/eileen-lewis-fundraiser/
END:VEVENT
END:VCALENDAR